BEGIN:VCALENDAR
VERSION:2.0
PRODID:-//wp-events-plugin.com//7.2.3.1//EN
TZID:Europe/Berlin
X-WR-TIMEZONE:Europe/Berlin
BEGIN:VEVENT
UID:295@foerdag-koblenz.de
DTSTART;TZID=Europe/Berlin:20231128T180000
DTEND;TZID=Europe/Berlin:20231128T190000
DTSTAMP:20231104T102221Z
URL:https://www.foerdag-koblenz.de/veranstaltungen/eltern-insel-infoabend/
SUMMARY:Eltern Insel - Infoabend
DESCRIPTION:Infoabend kostenfrei\, Anmeldung erbeten\n\nAnmeldung und weite
 re Infos unter kontakt@veronikastickel.de\n\n&nbsp\;\nEltern Insel\nWertsc
 hätzende Kommunikation in der Familie\nGrenzen spüren - in Beziehung sei
 n\nWenn die fetzen Fliegen - wie kriege ich mich und andere von der Palme?
 \n"Sei eine Schale!" - Selbstfürsorge entwickeln\nVom Paar zur Familie\nw
 ww.veronikastickel.de\n&nbsp\;
ATTACH;FMTTYPE=image/jpeg:https://www.foerdag-koblenz.de/wp-content/upload
 s/2023/03/beach-g61a595f56_1920.jpg
CATEGORIES:Eltern Insel
LOCATION:Hebiana - Koblenzer Hebammenpraxis mit Geburtshaus\, Trierer Stra
 ße 285a\, Koblenz\, 56072\, Deutschland
X-APPLE-STRUCTURED-LOCATION;VALUE=URI;X-ADDRESS=Trierer Straße 285a\, Kobl
 enz\, 56072\, Deutschland;X-APPLE-RADIUS=100;X-TITLE=Hebiana - Koblenzer H
 ebammenpraxis mit Geburtshaus:geo:0,0
END:VEVENT
BEGIN:VTIMEZONE
TZID:Europe/Berlin
X-LIC-LOCATION:Europe/Berlin
BEGIN:STANDARD
DTSTART:20231029T020000
TZOFFSETFROM:+0200
TZOFFSETTO:+0100
TZNAME:CET
END:STANDARD
END:VTIMEZONE
END:VCALENDAR