BEGIN:VCALENDAR
VERSION:2.0
PRODID:-//wp-events-plugin.com//7.2.3.1//EN
TZID:Europe/Berlin
X-WR-TIMEZONE:Europe/Berlin
BEGIN:VEVENT
UID:243@foerdag-koblenz.de
DTSTART;TZID=Europe/Berlin:20231112T143000
DTEND;TZID=Europe/Berlin:20231112T143000
DTSTAMP:20231029T121321Z
URL:https://www.foerdag-koblenz.de/veranstaltungen/mitgliederversammlung-2
 023/
SUMMARY:Mitgliederversammlung 2023
DESCRIPTION:Jährliche Mitgliederversammlung des Vereins zur "Förderung de
 r außerklinischen Geburtshilfe Koblenz e.V."\n\nBitte meldet euch bis 03.
 11.\, mit wie vielen Personen ihr teilnehmt. Falls ihr ein Thema bespreche
 n wollt\, einen Vorschlag oder eine Frage habt\, könnt ihr das auch schon
  mal mailen.\n\nDas Venere ist ganz neu und hat einen schönen Indoor-Spie
 lbereich für die größeren Kinder\, ein November-tauglicher Spielplatz-E
 rsatz mit guter Verpflegung! :)
ATTACH;FMTTYPE=image/jpeg:https://www.foerdag-koblenz.de/wp-content/upload
 s/2021/07/logo2b_transparent.png
CATEGORIES:Verein
LOCATION:Café Venere\, Schloßstr. 38\, Koblenz\, 56068\, Deutschland
X-APPLE-STRUCTURED-LOCATION;VALUE=URI;X-ADDRESS=Schloßstr. 38\, Koblenz\, 
 56068\, Deutschland;X-APPLE-RADIUS=100;X-TITLE=Café Venere:geo:0,0
END:VEVENT
BEGIN:VTIMEZONE
TZID:Europe/Berlin
X-LIC-LOCATION:Europe/Berlin
BEGIN:STANDARD
DTSTART:20231029T020000
TZOFFSETFROM:+0200
TZOFFSETTO:+0100
TZNAME:CET
END:STANDARD
END:VTIMEZONE
END:VCALENDAR